BEGIN:VCALENDAR
VERSION:2.0
PRODID:-//Sindicato Rural de Ibi&uacute;na - ECPv6.15.20//NONSGML v1.0//EN
CALSCALE:GREGORIAN
METHOD:PUBLISH
X-ORIGINAL-URL:https://sindicatoruraldeibiuna.com.br
X-WR-CALDESC:Eventos para Sindicato Rural de Ibi&uacute;na
REFRESH-INTERVAL;VALUE=DURATION:PT1H
X-Robots-Tag:noindex
X-PUBLISHED-TTL:PT1H
BEGIN:VTIMEZONE
TZID:America/Sao_Paulo
BEGIN:STANDARD
TZOFFSETFROM:-0300
TZOFFSETTO:-0300
TZNAME:-03
DTSTART:20220101T000000
END:STANDARD
END:VTIMEZONE
BEGIN:VEVENT
DTSTART;VALUE=DATE:20230110
DTEND;VALUE=DATE:20230113
DTSTAMP:20260423T134521
CREATED:20221206T143302Z
LAST-MODIFIED:20230107T211543Z
UID:1977-1673308800-1673567999@sindicatoruraldeibiuna.com.br
SUMMARY:Curso - Rastreabilidade de vegetais frescos
DESCRIPTION:
URL:https://sindicatoruraldeibiuna.com.br/event/curso-rastreabilidade-de-vegetais-frescos/
LOCATION:Sindicato Rural de Ibiúna
CATEGORIES:Cursos
ATTACH;FMTTYPE=image/jpeg:https://sindicatoruraldeibiuna.com.br/wp-content/uploads/2022/12/OIP.jpg
ORGANIZER;CN="Ant%C3%B4nio Cust%C3%B3dio":MAILTO:siribiu@gmail.com
END:VEVENT
END:VCALENDAR